BEGIN:VCALENDAR
VERSION:2.0
PRODID:-//順德聯誼總會屯門梁李秀娛幼稚園 - ECPv6.2.2//NONSGML v1.0//EN
CALSCALE:GREGORIAN
METHOD:PUBLISH
X-WR-CALNAME:順德聯誼總會屯門梁李秀娛幼稚園
X-ORIGINAL-URL:https://tmllsykg.edu.hk
X-WR-CALDESC:Events for 順德聯誼總會屯門梁李秀娛幼稚園
REFRESH-INTERVAL;VALUE=DURATION:PT1H
X-Robots-Tag:noindex
X-PUBLISHED-TTL:PT1H
BEGIN:VTIMEZONE
TZID:Asia/Hong_Kong
BEGIN:STANDARD
TZOFFSETFROM:+0800
TZOFFSETTO:+0800
TZNAME:HKT
DTSTART:20260101T000000
END:STANDARD
END:VTIMEZONE
BEGIN:VEVENT
DTSTART;VALUE=DATE:20260423
DTEND;VALUE=DATE:20260425
DTSTAMP:20260423T021922
CREATED:20240111T095332Z
LAST-MODIFIED:20250901T082927Z
UID:16771-1776902400-1777075199@tmllsykg.edu.hk
SUMMARY:23/4-24/4教師發展日，學生放假兩天
DESCRIPTION:
URL:https://tmllsykg.edu.hk/calendar/%e6%a0%a1%e6%85%b6%e9%a0%90%e5%82%99/
END:VEVENT
END:VCALENDAR